BEGIN:VCALENDAR
VERSION:2.0
PRODID:www.reiseregion-flaeming.de
BEGIN:VEVENT
UID:69ed576f85981
DTSTART:20260502T180000Z
SEQUENCE:0
TRANSP:OPAQUE
DTEND:20260502T200000Z
URL:http://www.reiseregion-flaeming.de/veranstaltung/elbe-elster-land/kiss-
 forever-band-europas-nr-1-kiss-tribute-show
LOCATION:Kulturweberei\, Oscar-Kjellberg-Straße 9\, 03238 Finsterwalde
X-APPLE-STRUCTURED-LOCATION;VALUE=URI;X-ADDRESS="Kulturweberei, Oscar-Kjell
 berg-Straße 9, 03238 Finsterwalde";X-APPLE-RADIUS=49;X-TITLE=Kulturwebere
 i:geo:13.705962,51.628162
GEO:13.705962;51.628162
SUMMARY:KISS Forever Band  Europas Nr. 1 KISS Tribute Show
CLASS:PUBLIC
DESCRIPTION:Make-up\, Feuer\, Pyros und die größten Rockhymnen aller Zeit
 en – die KISS FOREVER BAND bringt das legendäre Feeling von KISS live a
 uf die Bühne!  \nSeit ihrer Gründung 1995 hat sich die Band von ein paar
  wenigen Shows pro Jahr zu einer internationalen Sensation entwickelt. Mit
  1.500 Konzerten in 28 Ländern zählen sie heute zu den erfolgreichsten T
 ribute-Bands Europas. Ihr Programm reicht von den frühen Klassikern bis z
 u den großen Hits wie \"Rock and Roll All Nite\"\, \"I Was Made for Lovin
 ’ You\"\, \"Detroit Rock City\" oder \"Lick It Up\" – ergänzt durch 
 Überraschungen für echte Fans.  \nEin Höhepunkt ihrer Karriere: 2012 wu
 rde die Band in Las Vegas offiziell zur Nr. 1 europäischen KISS Tribute B
 and gekürt. Zudem standen sie bereits mit KISS-Legenden wie Eric Singer u
 nd Bruce Kulick auf der Bühne.  \nDie KISS FOREVER BAND bringt die volle 
 Show – spektakuläre Kostüme\, authentischer Sound und eine energiegela
 dene Performance\, die ihresgleichen sucht. Wer KISS liebt\, darf dieses K
 onzert nicht verpassen!\n\nKontakt:\n\nKulturweberei\nOscar-Kjellberg-Stra
 ße 9\n03238 Finsterwalde\nTelefon: +49 03531 5163110\nEmail: kulturwebere
 i@finsterwalde.de\nWebseite: https://www.kulturweberei.com/\n\nWeitere Inf
 ormationen zur Veranstaltung: http://www.reiseregion-flaeming.de/veranstal
 tung/elbe-elster-land/kiss-forever-band-europas-nr-1-kiss-tribute-show
CATEGORIES:Rock / Pop / Jazz
DTSTAMP:20260426T000815Z
END:VEVENT
END:VCALENDAR